BEGIN:VCALENDAR
PRODID:-//eluceo/ical//2.0/EN
VERSION:2.0
CALSCALE:GREGORIAN
BEGIN:VEVENT
UID:febd7c582402f3adaaf4dc008d63ae0d
DTSTAMP:20260424T014529Z
SUMMARY:7:30AM JCA Preschool Plus Day
DESCRIPTION:Jewish Federation & Foundation of Northeast Florida\nCommunity 
 Calendar\nhttps://jewishjacksonville.org/jewish-federation-of-jacksonville
 -calendar/jca-preschool-plus-dayf\n\nChildren's Program\n\nJCA Preschool P
 lus Day 7:30-6pm\n\nhttps://reg.jcajax.org/OnlineEdge/programlist.html
DTSTART;TZID=America/New_York:20160215T073000
DTEND;TZID=America/New_York:20160215T180000
END:VEVENT
END:VCALENDAR
