BEGIN:VCALENDAR
PRODID:-//eluceo/ical//2.0/EN
VERSION:2.0
CALSCALE:GREGORIAN
BEGIN:VEVENT
UID:5a75c34c30cf0e30b04f0d726395418f
DTSTAMP:20260422T211815Z
SUMMARY:JCA Pre Adventure Camp 2014
DESCRIPTION:Jewish Federation & Foundation of Northeast Florida\nCommunity 
 Calendar\nhttps://jewishjacksonville.org/jewish-federation-of-jacksonville
 -calendar/jca-pre-adventure-camp-2014\n\nJCA Pre Adventure Camp 2014
DTSTART;TZID=America/New_York:20140609T000000
DTEND;TZID=America/New_York:20140609T235900
END:VEVENT
END:VCALENDAR
