BEGIN:VCALENDAR
PRODID:-//eluceo/ical//2.0/EN
VERSION:2.0
CALSCALE:GREGORIAN
BEGIN:VEVENT
UID:cac9346a0def3058c9497c276ffb813c
DTSTAMP:20260421T093351Z
SUMMARY:***JCA PIZZA IN THE HUT SUKKOT CELEBRATION***
DESCRIPTION:Jewish Federation & Foundation of Northeast Florida\nCommunity 
 Calendar\nhttps://jewishjacksonville.org/jewish-federation-of-jacksonville
 -calendar/jca-pizza-in-the-hut-sukkot-celebration\n\nJCA members\, join us
  for our annual Sukkot Celebration. Enjoy a festive\, family style dinner
  in our outdoor sukkah.
DTSTART;TZID=America/New_York:20191016T180000
DTEND;TZID=America/New_York:20191016T200000
END:VEVENT
END:VCALENDAR
