BEGIN:VCALENDAR
PRODID:-//eluceo/ical//2.0/EN
VERSION:2.0
CALSCALE:GREGORIAN
BEGIN:VEVENT
UID:b5bf67744eba8588949f01f944501d7d
DTSTAMP:20260422T021521Z
SUMMARY:JCA Pizza in the Hut
DESCRIPTION:Jewish Federation & Foundation of Northeast Florida\nCommunity 
 Calendar\nhttps://jewishjacksonville.org/jewish-federation-of-jacksonville
 -calendar/jca-pizza-in-the-hut-2016\n\nCOMMUNITY PROGRAM\n\nJCA Pizza in t
 he Hut Sukkot event\, Oct. 20\, time TBD\n\nhttp://reg.jcajax.org/OnlineEd
 ge/programlist.html
DTSTART;TZID=America/New_York:20161020T180000
DTEND;TZID=America/New_York:20161020T193000
END:VEVENT
END:VCALENDAR
