BEGIN:VCALENDAR
PRODID:-//eluceo/ical//2.0/EN
VERSION:2.0
CALSCALE:GREGORIAN
BEGIN:VEVENT
UID:d7facdabd6c0cada85a5ccb963b1bd96
DTSTAMP:20260423T210549Z
SUMMARY:JCA Performing Arts for Children Show
DESCRIPTION:Jewish Federation & Foundation of Northeast Florida\nCommunity 
 Calendar\nhttps://jewishjacksonville.org/jewish-federation-of-jacksonville
 -calendar/jca-performing-arts-for-children-show\n\nJCA Theatre's young act
 ors present a live\, stage show. Production TBD.
DTSTART;TZID=America/New_York:20191207T193000
DTEND;TZID=America/New_York:20191207T213000
END:VEVENT
END:VCALENDAR
