BEGIN:VCALENDAR
PRODID:-//eluceo/ical//2.0/EN
VERSION:2.0
CALSCALE:GREGORIAN
BEGIN:VEVENT
UID:e49718fa73baeec92ef0327a02df613b
DTSTAMP:20260422T022602Z
SUMMARY:7:30 PM - JCA Performing Arts for Children (PAC) Show
DESCRIPTION:Jewish Federation & Foundation of Northeast Florida\nCommunity 
 Calendar\nhttps://jewishjacksonville.org/jewish-federation-of-jacksonville
 -calendar/jca-performing-arts-for-children-pac-show-dec2-9\n\nCOMMUNITY PR
 OGRAM\n\nJCA PAC theatre show\, 7:30 pm\, details tbd\n\nhttps://jcajax.or
 g/programs
DTSTART;TZID=America/New_York:20171202T193000
DTEND;TZID=America/New_York:20171202T210000
END:VEVENT
END:VCALENDAR
