BEGIN:VCALENDAR
PRODID:-//eluceo/ical//2.0/EN
VERSION:2.0
CALSCALE:GREGORIAN
BEGIN:VEVENT
UID:bc16e6e4100a3b1135738ea641293c37
DTSTAMP:20260422T091718Z
SUMMARY:8:00 PM - JCA PAC Youth Theatre Show
DESCRIPTION:Jewish Federation & Foundation of Northeast Florida\nCommunity 
 Calendar\nhttps://jewishjacksonville.org/jewish-federation-of-jacksonville
 -calendar/jca-pac-youth-theatre-show-mar4\n\nCOMMUNITY PROGRAM\n\nJCA PAC 
 Youth Theatre show\, Mar 4 at 8-9 p.m.\n\nhttp://reg.jcajax.org/OnlineEdge
 /programlist.html
DTSTART;TZID=America/New_York:20170304T200000
DTEND;TZID=America/New_York:20170304T210000
END:VEVENT
END:VCALENDAR
