BEGIN:VCALENDAR
PRODID:-//eluceo/ical//2.0/EN
VERSION:2.0
CALSCALE:GREGORIAN
BEGIN:VEVENT
UID:d9890a0c67b02f15642b0e11652bae54
DTSTAMP:20260421T210006Z
SUMMARY:JCA PAC Youth Theatre Show
DESCRIPTION:Jewish Federation & Foundation of Northeast Florida\nCommunity 
 Calendar\nhttps://jewishjacksonville.org/jewish-federation-of-jacksonville
 -calendar/jca-pac-youth-theatre-show-dec4-11\n\nCOMMUNITY PROGRAM\n\nJCA P
 AC Youth Theatre show\, Dec. 4 and 11 at 2:00 PM\n\nhttp://reg.jcajax.org/
 OnlineEdge/programlist.html
DTSTART;TZID=America/New_York:20161204T140000
DTEND;TZID=America/New_York:20161204T153000
END:VEVENT
END:VCALENDAR
