BEGIN:VCALENDAR
PRODID:-//eluceo/ical//2.0/EN
VERSION:2.0
CALSCALE:GREGORIAN
BEGIN:VEVENT
UID:4c6c04c69ad831eae73bb2788fd95c34
DTSTAMP:20260423T110237Z
SUMMARY:JCA PAC Youth Theatre Show
DESCRIPTION:Jewish Federation & Foundation of Northeast Florida\nCommunity 
 Calendar\nhttps://jewishjacksonville.org/jewish-federation-of-jacksonville
 -calendar/jca-pac-youth-theatre-show-dec3-10\n\nCOMMUNITY PROGRAM\n\nJCA P
 AC Youth Theatre show\, Dec. 3 and 10 at 7:30 PM\n\nhttp://reg.jcajax.org/
 OnlineEdge/programlist.html
DTSTART;TZID=America/New_York:20161203T193000
DTEND;TZID=America/New_York:20161203T210000
END:VEVENT
END:VCALENDAR
