BEGIN:VCALENDAR
PRODID:-//eluceo/ical//2.0/EN
VERSION:2.0
CALSCALE:GREGORIAN
BEGIN:VEVENT
UID:26b5f6b08959e19798d13d15009efa95
DTSTAMP:20260423T235657Z
SUMMARY:JCA PAC Rehearsal
DESCRIPTION:Jewish Federation & Foundation of Northeast Florida\nCommunity 
 Calendar\nhttps://jewishjacksonville.org/jewish-federation-of-jacksonville
 -calendar/jca-pac-rehearsal-janfeb\n\nCHILDREN'S PROGRAM\n\nJCA PAC Rehear
 sal\, Jan 23\, 30\, Feb 6\, 13\, 3:30 PM\n\nhttp://reg.jcajax.org/OnlineEd
 ge/programlist.html
DTSTART;TZID=America/New_York:20170123T153000
DTEND;TZID=America/New_York:20170123T183000
END:VEVENT
END:VCALENDAR
