BEGIN:VCALENDAR
PRODID:-//eluceo/ical//2.0/EN
VERSION:2.0
CALSCALE:GREGORIAN
BEGIN:VEVENT
UID:3519c91e1337b9b1852b79ce5a3cb5ba
DTSTAMP:20260422T193602Z
SUMMARY:JCA PAC Rehearsal
DESCRIPTION:Jewish Federation & Foundation of Northeast Florida\nCommunity 
 Calendar\nhttps://jewishjacksonville.org/jewish-federation-of-jacksonville
 -calendar/jca-pac-rehearsal\n\nCHILDREN'S PROGRAM\n\nJCA PAC rehearsal\, e
 very Thursday from Sept 1 to Oct 27\, 3:30 - 6:30 PM\n\nhttp://reg.jcajax.
 org/OnlineEdge/programlist.html
DTSTART;TZID=America/New_York:20160901T153000
DTEND;TZID=America/New_York:20160901T183000
END:VEVENT
END:VCALENDAR
