BEGIN:VCALENDAR
PRODID:-//eluceo/ical//2.0/EN
VERSION:2.0
CALSCALE:GREGORIAN
BEGIN:VEVENT
UID:11931c7540c3e0b30a80cf1c4936b09b
DTSTAMP:20260420T214838Z
SUMMARY:1 PM - JCA PAC Auditions
DESCRIPTION:Jewish Federation & Foundation of Northeast Florida\nCommunity 
 Calendar\nhttps://jewishjacksonville.org/jewish-federation-of-jacksonville
 -calendar/jca-pac-auditions-sept17\n\nCHILDREN'S PROGRAM\n\nJCA Performing
  Arts for Children (PAC) Auditions\, details TBD\n\nhttps://jcajax.org/pro
 grams
DTSTART;TZID=America/New_York:20170910T130000
DTEND;TZID=America/New_York:20170910T150000
END:VEVENT
END:VCALENDAR
