BEGIN:VCALENDAR
PRODID:-//eluceo/ical//2.0/EN
VERSION:2.0
CALSCALE:GREGORIAN
BEGIN:VEVENT
UID:ce87a1ac1edfe1d4857d70747e073274
DTSTAMP:20260423T224149Z
SUMMARY:JCA Open House
DESCRIPTION:Jewish Federation & Foundation of Northeast Florida\nCommunity 
 Calendar\nhttps://jewishjacksonville.org/jewish-federation-of-jacksonville
 -calendar/jca-open-house\n\nJCA Open House
DTSTART;TZID=America/New_York:20130811T000000
DTEND;TZID=America/New_York:20130811T235900
END:VEVENT
END:VCALENDAR
