BEGIN:VCALENDAR
PRODID:-//eluceo/ical//2.0/EN
VERSION:2.0
CALSCALE:GREGORIAN
BEGIN:VEVENT
UID:50c739286e21a0ca7f2e61df9944ff43
DTSTAMP:20260420T141422Z
SUMMARY:JCA Michele Block Gan Yeladim school year begins
DESCRIPTION:Jewish Federation & Foundation of Northeast Florida\nCommunity 
 Calendar\nhttps://jewishjacksonville.org/jewish-federation-of-jacksonville
 -calendar/jca-michele-block-gan-yeladim-school-year-begins\n\nCHILDREN'S P
 ROGRAM\n\nJCA Michele Block Gan Yeladim school year begins today\n\nhttps:
 //jcajax.org/programs
DTSTART;TZID=America/New_York:20170821T000000
DTEND;TZID=America/New_York:20170821T000000
END:VEVENT
END:VCALENDAR
