BEGIN:VCALENDAR
PRODID:-//eluceo/ical//2.0/EN
VERSION:2.0
CALSCALE:GREGORIAN
BEGIN:VEVENT
UID:c4bab3fcd2f9bc3dd16c81dcb24f7240
DTSTAMP:20260424T014539Z
SUMMARY:JCA Membership Open House
DESCRIPTION:Jewish Federation & Foundation of Northeast Florida\nCommunity 
 Calendar\nhttps://jewishjacksonville.org/jewish-federation-of-jacksonville
 -calendar/jca-membership-open-house-august\n\nVisit the JCA to tour the fa
 cility and learn about membership benefits.
DTSTART;TZID=America/New_York:20190818T110000
DTEND;TZID=America/New_York:20190818T160000
END:VEVENT
END:VCALENDAR
