BEGIN:VCALENDAR
PRODID:-//eluceo/ical//2.0/EN
VERSION:2.0
CALSCALE:GREGORIAN
BEGIN:VEVENT
UID:14b212e8ddcce140c31386b6638161ed
DTSTAMP:20260420T200521Z
SUMMARY:JCA Membership Open House
DESCRIPTION:Jewish Federation & Foundation of Northeast Florida\nCommunity 
 Calendar\nhttps://jewishjacksonville.org/jewish-federation-of-jacksonville
 -calendar/jca-membership-open-house-February-2020\n\nVisit the JCA for a t
 our and to learn about the benefits of membership.
DTSTART;TZID=America/New_York:20200209T110000
DTEND;TZID=America/New_York:20200209T160000
END:VEVENT
END:VCALENDAR
