BEGIN:VCALENDAR
PRODID:-//eluceo/ical//2.0/EN
VERSION:2.0
CALSCALE:GREGORIAN
BEGIN:VEVENT
UID:b098e233cbdeb9799c2f9aebb6139f92
DTSTAMP:20260420T224435Z
SUMMARY:11AM JCA Mature Adults Cool Car Corral
DESCRIPTION:Jewish Federation & Foundation of Northeast Florida\nCommunity 
 Calendar\nhttps://jewishjacksonville.org/jewish-federation-of-jacksonville
 -calendar/jca-mature-adults-cool-car-corral\n\nCommunity Program\n\nJCA Ma
 ture Adults Cool Car Corral 11am-2pm\n\nhttps://reg.jcajax.org/OnlineEdge/
 programlist.html
DTSTART;TZID=America/New_York:20151108T110000
DTEND;TZID=America/New_York:20151108T140000
END:VEVENT
END:VCALENDAR
