BEGIN:VCALENDAR
PRODID:-//eluceo/ical//2.0/EN
VERSION:2.0
CALSCALE:GREGORIAN
BEGIN:VEVENT
UID:a5d0d69dc7318f12170f601f2be8b024
DTSTAMP:20260423T162314Z
SUMMARY:JCA Magic Wardrobe Show
DESCRIPTION:Jewish Federation & Foundation of Northeast Florida\nCommunity 
 Calendar\nhttps://jewishjacksonville.org/jewish-federation-of-jacksonville
 -calendar/jca-magic-wardrobe-show-oct7\n\nCHILDREN'S PROGRAM\n\nJCA Magic 
 Wardrobe show\, Oct. 7\, time TBD\n\nhttp://reg.jcajax.org/OnlineEdge/prog
 ramlist.html
DTSTART;TZID=America/New_York:20161007T093000
DTEND;TZID=America/New_York:20161007T113500
END:VEVENT
END:VCALENDAR
