BEGIN:VCALENDAR
PRODID:-//eluceo/ical//2.0/EN
VERSION:2.0
CALSCALE:GREGORIAN
BEGIN:VEVENT
UID:297c9b0a11c8af2401ecec0397c834e1
DTSTAMP:20260423T180432Z
SUMMARY:JCA Magic Wardrobe Show
DESCRIPTION:Jewish Federation & Foundation of Northeast Florida\nCommunity 
 Calendar\nhttps://jewishjacksonville.org/jewish-federation-of-jacksonville
 -calendar/jca-magic-wardrobe-show-nov-15-16-17-18\n\nCHILDREN'S PROGRAM\n\
 nJCA Magic Wardrobe show\, Nov. 15\, 16\, 17 and 18\, time TBD\n\nhttp://r
 eg.jcajax.org/OnlineEdge/programlist.html
DTSTART;TZID=America/New_York:20161115T093000
DTEND;TZID=America/New_York:20161115T113000
END:VEVENT
END:VCALENDAR
