BEGIN:VCALENDAR
PRODID:-//eluceo/ical//2.0/EN
VERSION:2.0
CALSCALE:GREGORIAN
BEGIN:VEVENT
UID:f0daffb54fed3851d7f91856930bfaef
DTSTAMP:20260425T204303Z
SUMMARY:12:45 PM - JCA - Kosher Market Sweep
DESCRIPTION:Jewish Federation & Foundation of Northeast Florida\nCommunity 
 Calendar\nhttps://jewishjacksonville.org/jewish-federation-of-jacksonville
 -calendar/jca-kosher-market-sweep-2024\n\nCalling all tweens and teens! Lo
 cal middle and high school aged students are invited to join together for 
 fun\, learning\, shopping\, and donating to help our local LJD Jewish Fami
 ly & Community Services Max Block Food Pantry.  Location emailed upon reg
 istration.  Pizza lunch will be provided.\n\n \n\nFree to the community\
 n\n \n\nFor more information\, please contact Rachel Sandler at rachel.sa
 ndler@jcajax.org
DTSTART;TZID=America/New_York:20240915T124500
DTEND;TZID=America/New_York:20240915T144500
END:VEVENT
END:VCALENDAR
