BEGIN:VCALENDAR
PRODID:-//eluceo/ical//2.0/EN
VERSION:2.0
CALSCALE:GREGORIAN
BEGIN:VEVENT
UID:a100e1ff0a76eb398bfb28e2d046410c
DTSTAMP:20260425T224157Z
SUMMARY:JCA Jewish Book Festival presents Girls Night Out with Eddie Shapir
 o
DESCRIPTION:Jewish Federation & Foundation of Northeast Florida\nCommunity 
 Calendar\nhttps://jewishjacksonville.org/jewish-federation-of-jacksonville
 -calendar/jca-jewish-book-festival-presents-girls-night-out-with-eddie-sha
 piro\n\nNovember 6 at 7 pm: Eddie Shapiro\, author of Nothing Like a Dame 
 -- Conversations with the Great Women of Musical Theatre\, featuring a mus
 ical performance by Amy Allen\, singing songs made famous by the interview
 ees. 
DTSTART;TZID=America/New_York:20141106T190000
DTEND;TZID=America/New_York:20141106T210000
END:VEVENT
END:VCALENDAR
