BEGIN:VCALENDAR
PRODID:-//eluceo/ical//2.0/EN
VERSION:2.0
CALSCALE:GREGORIAN
BEGIN:VEVENT
UID:d0cf99ec9e69086d2323876af048770c
DTSTAMP:20260422T085756Z
SUMMARY:7:30AM JCA JCation Days
DESCRIPTION:Jewish Federation & Foundation of Northeast Florida\nCommunity 
 Calendar\nhttps://jewishjacksonville.org/jewish-federation-of-jacksonville
 -calendar/jca-jcation-days7\n\nChildren's Program\n\nJCA JCation Days 7:3
 0-6pm\n\n​https://reg.jcajax.org/OnlineEdge/programlist.html
DTSTART;TZID=America/New_York:20151221T073000
DTEND;TZID=America/New_York:20151221T180000
END:VEVENT
END:VCALENDAR
