BEGIN:VCALENDAR
PRODID:-//eluceo/ical//2.0/EN
VERSION:2.0
CALSCALE:GREGORIAN
BEGIN:VEVENT
UID:27b0cfb353aef21a083a38a85290a55c
DTSTAMP:20260422T071342Z
SUMMARY:JCA JCation Days Dec 26-30
DESCRIPTION:Jewish Federation & Foundation of Northeast Florida\nCommunity 
 Calendar\nhttps://jewishjacksonville.org/jewish-federation-of-jacksonville
 -calendar/jca-jcation-days-dec-26-30\n\nCHILDREN'S PROGRAM\n\nJCA JCation 
 Days\, Dec. 26-30\n\nhttp://reg.jcajax.org/OnlineEdge/programlist.html
DTSTART;TZID=America/New_York:20161226T070000
DTEND;TZID=America/New_York:20161226T235959
END:VEVENT
END:VCALENDAR
