BEGIN:VCALENDAR
PRODID:-//eluceo/ical//2.0/EN
VERSION:2.0
CALSCALE:GREGORIAN
BEGIN:VEVENT
UID:cdb5db77911795f1cad469b32b243c15
DTSTAMP:20260425T163654Z
SUMMARY:7:30AM JCA JCation Day
DESCRIPTION:Jewish Federation & Foundation of Northeast Florida\nCommunity 
 Calendar\nhttps://jewishjacksonville.org/jewish-federation-of-jacksonville
 -calendar/jca-jcation-dayf\n\nChildren's Program\n\nJCA JCation Days 7:30
 am-6pm\n\nhttps://reg.jcajax.org/OnlineEdge/programlist.html
DTSTART;TZID=America/New_York:20160215T073000
DTEND;TZID=America/New_York:20160215T180000
END:VEVENT
END:VCALENDAR
