BEGIN:VCALENDAR
PRODID:-//eluceo/ical//2.0/EN
VERSION:2.0
CALSCALE:GREGORIAN
BEGIN:VEVENT
UID:143a9c82bb7155b8e106cd36dc58feae
DTSTAMP:20260424T093446Z
SUMMARY:7:30AM JCA JCation Day
DESCRIPTION:Jewish Federation & Foundation of Northeast Florida\nCommunity 
 Calendar\nhttps://jewishjacksonville.org/jewish-federation-of-jacksonville
 -calendar/jca-jcation-day5\n\nChildren's Program\n\nJCA JCation Day 7:30am
 -6pm\n\nhttps://reg.jcajax.org/OnlineEdge/programlist.html
DTSTART;TZID=America/New_York:20151130T073000
DTEND;TZID=America/New_York:20151130T180000
END:VEVENT
END:VCALENDAR
