BEGIN:VCALENDAR
PRODID:-//eluceo/ical//2.0/EN
VERSION:2.0
CALSCALE:GREGORIAN
BEGIN:VEVENT
UID:aa836d3472b59c5834f75fe0af299620
DTSTAMP:20260424T202207Z
SUMMARY:JCA JCAtion Day
DESCRIPTION:Jewish Federation & Foundation of Northeast Florida\nCommunity 
 Calendar\nhttps://jewishjacksonville.org/jewish-federation-of-jacksonville
 -calendar/jca-jcation-day-oct-18\n\nWhen school's out\, send your child to
  the JCA!
DTSTART;TZID=America/New_York:20191018T070000
DTEND;TZID=America/New_York:20191018T180000
END:VEVENT
END:VCALENDAR
