BEGIN:VCALENDAR
PRODID:-//eluceo/ical//2.0/EN
VERSION:2.0
CALSCALE:GREGORIAN
BEGIN:VEVENT
UID:e09b0311cf0212d1396f7ed9c86c0b62
DTSTAMP:20260422T003425Z
SUMMARY:JCA JCAtion Day
DESCRIPTION:Jewish Federation & Foundation of Northeast Florida\nCommunity 
 Calendar\nhttps://jewishjacksonville.org/jewish-federation-of-jacksonville
 -calendar/jca-jcation-day-mar-9\n\nWhen school's out\, send your kids to t
 he JCA!
DTSTART;TZID=America/New_York:20200309T073000
DTEND;TZID=America/New_York:20200309T180000
END:VEVENT
END:VCALENDAR
