BEGIN:VCALENDAR
PRODID:-//eluceo/ical//2.0/EN
VERSION:2.0
CALSCALE:GREGORIAN
BEGIN:VEVENT
UID:a86948ed9d321543258278a94734349d
DTSTAMP:20260422T003404Z
SUMMARY:JCA JCAtion Day
DESCRIPTION:Jewish Federation & Foundation of Northeast Florida\nCommunity 
 Calendar\nhttps://jewishjacksonville.org/jewish-federation-of-jacksonville
 -calendar/jca-jcation-day-jan7\n\nContact us for more information!
DTSTART;TZID=America/New_York:20190107T124000
DTEND;TZID=America/New_York:20190107T142000
END:VEVENT
END:VCALENDAR
