BEGIN:VCALENDAR
PRODID:-//eluceo/ical//2.0/EN
VERSION:2.0
CALSCALE:GREGORIAN
BEGIN:VEVENT
UID:cdfd23c0324181287fc4c7a70eae80e5
DTSTAMP:20260423T235717Z
SUMMARY:JCA JCAtion Day
DESCRIPTION:Jewish Federation & Foundation of Northeast Florida\nCommunity 
 Calendar\nhttps://jewishjacksonville.org/jewish-federation-of-jacksonville
 -calendar/jca-jcation-day-dec-26\n\nContact us for more information!
DTSTART;TZID=America/New_York:20181226T123500
DTEND;TZID=America/New_York:20181226T235959
END:VEVENT
END:VCALENDAR
