BEGIN:VCALENDAR
PRODID:-//eluceo/ical//2.0/EN
VERSION:2.0
CALSCALE:GREGORIAN
BEGIN:VEVENT
UID:d89bb67bdd3d183db74b5be4d8b3144b
DTSTAMP:20260421T225158Z
SUMMARY:JCA JCation Day Apr 28
DESCRIPTION:Jewish Federation & Foundation of Northeast Florida\nCommunity 
 Calendar\nhttps://jewishjacksonville.org/jewish-federation-of-jacksonville
 -calendar/jca-jcation-day-apr-28\n\nCHILDREN'S PROGRAM\n\nJCA JCation Day 
 Apr 28\n\nhttp://reg.jcajax.org/OnlineEdge/programlist.html
DTSTART;TZID=America/New_York:20170428T073000
DTEND;TZID=America/New_York:20170428T235959
END:VEVENT
END:VCALENDAR
