BEGIN:VCALENDAR
PRODID:-//eluceo/ical//2.0/EN
VERSION:2.0
CALSCALE:GREGORIAN
BEGIN:VEVENT
UID:c131ef7e1559f5d880b872047c013fef
DTSTAMP:20260421T225148Z
SUMMARY:JCA JCAtion Day
DESCRIPTION:Jewish Federation & Foundation of Northeast Florida\nCommunity 
 Calendar\nhttps://jewishjacksonville.org/jewish-federation-of-jacksonville
 -calendar/jca-jcation-day-apr-10\n\nWhen school is out\, send your kids to
  the JCA!
DTSTART;TZID=America/New_York:20200410T073000
DTEND;TZID=America/New_York:20200410T180000
END:VEVENT
END:VCALENDAR
