BEGIN:VCALENDAR
PRODID:-//eluceo/ical//2.0/EN
VERSION:2.0
CALSCALE:GREGORIAN
BEGIN:VEVENT
UID:0f31036bb449ce09db822ec1a937fd2b
DTSTAMP:20260422T085805Z
SUMMARY:JCA JCAtion Day
DESCRIPTION:Jewish Federation & Foundation of Northeast Florida\nCommunity 
 Calendar\nhttps://jewishjacksonville.org/jewish-federation-of-jacksonville
 -calendar/jca-jcation-day-Oct-21\n\nWhen school is out\, send your kid to 
 the JCA!
DTSTART;TZID=America/New_York:20191021T070000
DTEND;TZID=America/New_York:20191021T180000
END:VEVENT
END:VCALENDAR
