BEGIN:VCALENDAR
PRODID:-//eluceo/ical//2.0/EN
VERSION:2.0
CALSCALE:GREGORIAN
BEGIN:VEVENT
UID:12680f9c562e39b83fdde4762b3de72a
DTSTAMP:20260422T071322Z
SUMMARY:JCA JCAtion Day
DESCRIPTION:Jewish Federation & Foundation of Northeast Florida\nCommunity 
 Calendar\nhttps://jewishjacksonville.org/jewish-federation-of-jacksonville
 -calendar/jca-jcation-day-December-27\n\nWhen school is out\, send your ki
 ds to the JCA!
DTSTART;TZID=America/New_York:20191227T073000
DTEND;TZID=America/New_York:20191227T180000
END:VEVENT
END:VCALENDAR
