BEGIN:VCALENDAR
PRODID:-//eluceo/ical//2.0/EN
VERSION:2.0
CALSCALE:GREGORIAN
BEGIN:VEVENT
UID:c9f7c810af168988fd444453120d4667
DTSTAMP:20260422T091444Z
SUMMARY:JCA JCAtion Day
DESCRIPTION:Jewish Federation & Foundation of Northeast Florida\nCommunity 
 Calendar\nhttps://jewishjacksonville.org/jewish-federation-of-jacksonville
 -calendar/jca-jcation-day-4-19-19\n\nVisit our site to learn more!
DTSTART;TZID=America/New_York:20190419T105000
DTEND;TZID=America/New_York:20190419T225000
END:VEVENT
END:VCALENDAR
