BEGIN:VCALENDAR
PRODID:-//eluceo/ical//2.0/EN
VERSION:2.0
CALSCALE:GREGORIAN
BEGIN:VEVENT
UID:4e23e2fa42bb4045a9e2c1a2cd4d57e9
DTSTAMP:20260424T014629Z
SUMMARY:JCA Holocaust Show
DESCRIPTION:Jewish Federation & Foundation of Northeast Florida\nCommunity 
 Calendar\nhttps://jewishjacksonville.org/jewish-federation-of-jacksonville
 -calendar/jca-holocaust-show\n\nFor details\, call 730-2100 ext. 228.
DTSTART;TZID=America/New_York:20200419T140000
DTEND;TZID=America/New_York:20200419T160000
END:VEVENT
END:VCALENDAR
