BEGIN:VCALENDAR
PRODID:-//eluceo/ical//2.0/EN
VERSION:2.0
CALSCALE:GREGORIAN
BEGIN:VEVENT
UID:29eae103bf9e280d4910153eb4212330
DTSTAMP:20260425T183352Z
SUMMARY:**7:30 PM JCA Annual Fundraiser
DESCRIPTION:Jewish Federation & Foundation of Northeast Florida\nCommunity 
 Calendar\nhttps://jewishjacksonville.org/jewish-federation-of-jacksonville
 -calendar/jca-fundraiser-2-23-19\n\nContact us for more information!
DTSTART;TZID=America/New_York:20190223T000000
DTEND;TZID=America/New_York:20190223T235959
END:VEVENT
END:VCALENDAR
