BEGIN:VCALENDAR
PRODID:-//eluceo/ical//2.0/EN
VERSION:2.0
CALSCALE:GREGORIAN
BEGIN:VEVENT
UID:09a3f3ec2f5103d2cbb426f03eda39c0
DTSTAMP:20260422T105539Z
SUMMARY:JCA\, Federation and Foundation closed for Sukkot
DESCRIPTION:Jewish Federation & Foundation of Northeast Florida\nCommunity 
 Calendar\nhttps://jewishjacksonville.org/jewish-federation-of-jacksonville
 -calendar/jca-federation-and-foundation-closed-for-sukkot\n\nJCA\, Federat
 ion and Foundation closed for Sukkot
DTSTART;TZID=America/New_York:20130919T000000
DTEND;TZID=America/New_York:20130919T235900
END:VEVENT
END:VCALENDAR
