BEGIN:VCALENDAR
PRODID:-//eluceo/ical//2.0/EN
VERSION:2.0
CALSCALE:GREGORIAN
BEGIN:VEVENT
UID:d840d754ce98ac47c1da71cdfbaf9a74
DTSTAMP:20260424T230740Z
SUMMARY:JCA\, Federation and Foundation Closed for Shavuot
DESCRIPTION:Jewish Federation & Foundation of Northeast Florida\nCommunity 
 Calendar\nhttps://jewishjacksonville.org/jewish-federation-of-jacksonville
 -calendar/jca-federation-and-foundation-closed-for-shavuot-8472\n\nJCA\, F
 ederation and Foundation Closed for Shavuot
DTSTART;TZID=America/New_York:20140604T000000
DTEND;TZID=America/New_York:20140604T235900
END:VEVENT
END:VCALENDAR
