BEGIN:VCALENDAR
PRODID:-//eluceo/ical//2.0/EN
VERSION:2.0
CALSCALE:GREGORIAN
BEGIN:VEVENT
UID:311b3a933721050e5961bea838152dbf
DTSTAMP:20260423T011409Z
SUMMARY:JCA Family Programming and Jewish Outreach event
DESCRIPTION:Jewish Federation & Foundation of Northeast Florida\nCommunity 
 Calendar\nhttps://jewishjacksonville.org/jewish-federation-of-jacksonville
 -calendar/jca-family-programming-and-jewish-outreach-feb12\n\nCOMMUNITY PR
 OGRAM\n\nJCA Family Programming and Jewish Outreach event\, details TBD\, 
 Feb. 12\n\nhttp://reg.jcajax.org/OnlineEdge/programlist.html
DTSTART;TZID=America/New_York:20170212T090000
DTEND;TZID=America/New_York:20170212T235959
END:VEVENT
END:VCALENDAR
