BEGIN:VCALENDAR
PRODID:-//eluceo/ical//2.0/EN
VERSION:2.0
CALSCALE:GREGORIAN
BEGIN:VEVENT
UID:2226ffca20a688481b08d56baf556dd5
DTSTAMP:20260422T163300Z
SUMMARY:9:30 AM - JCA Family Programming and Jewish Outreach event
DESCRIPTION:Jewish Federation & Foundation of Northeast Florida\nCommunity 
 Calendar\nhttps://jewishjacksonville.org/jewish-federation-of-jacksonville
 -calendar/jca-family-programming-and-jewish-outreach-event-tbd\n\nCOMMUNIT
 Y PROGRAM\n\nJCA Family Programming and Jewish Outreach event\, Mar 5\, ti
 me 9:30 a.m.\n\nhttp://reg.jcajax.org/OnlineEdge/programlist.html
DTSTART;TZID=America/New_York:20170305T093000
DTEND;TZID=America/New_York:20170305T235900
END:VEVENT
END:VCALENDAR
