BEGIN:VCALENDAR
PRODID:-//eluceo/ical//2.0/EN
VERSION:2.0
CALSCALE:GREGORIAN
BEGIN:VEVENT
UID:332f508b54a381a10b5e4c03cfbf2dba
DTSTAMP:20260421T093331Z
SUMMARY:11:00 AM - JCA Family Fun Day
DESCRIPTION:Jewish Federation & Foundation of Northeast Florida\nCommunity 
 Calendar\nhttps://jewishjacksonville.org/jewish-federation-of-jacksonville
 -calendar/jca-family-fun-day-may29\n\nCOMMUNITY PROGRAM\n\nJCA Family Fun 
 Day\, May 29 at 11:00 AM\n\nhttp://reg.jcajax.org/OnlineEdge/programlist.h
 tml
DTSTART;TZID=America/New_York:20170529T110000
DTEND;TZID=America/New_York:20170529T130000
END:VEVENT
END:VCALENDAR
