BEGIN:VCALENDAR
PRODID:-//eluceo/ical//2.0/EN
VERSION:2.0
CALSCALE:GREGORIAN
BEGIN:VEVENT
UID:85ddc15b991500908ff639fbe9de11ef
DTSTAMP:20260422T021335Z
SUMMARY:JCA ECE Welcome Brunch
DESCRIPTION:Jewish Federation & Foundation of Northeast Florida\nCommunity 
 Calendar\nhttps://jewishjacksonville.org/jewish-federation-of-jacksonville
 -calendar/jca-ece-welcome-brunch-aug16\n\nCOMMUNITY PROGRAM\n\nJCA Early C
 hildhood Education welcome brunch\, Aug 21 at 10:00 AM\n\nhttp://reg.jcaja
 x.org/OnlineEdge/programlist.html
DTSTART;TZID=America/New_York:20160821T100000
DTEND;TZID=America/New_York:20160821T140000
END:VEVENT
END:VCALENDAR
