BEGIN:VCALENDAR
PRODID:-//eluceo/ical//2.0/EN
VERSION:2.0
CALSCALE:GREGORIAN
BEGIN:VEVENT
UID:5e0943f260ebf7f5d2d6bfae487121f4
DTSTAMP:20260420T151152Z
SUMMARY:7:30 AM - JCA ECE Last Day
DESCRIPTION:Jewish Federation & Foundation of Northeast Florida\nCommunity 
 Calendar\nhttps://jewishjacksonville.org/jewish-federation-of-jacksonville
 -calendar/jca-ece-last-day-2017\n\nCHILDREN'S PROGRAM\n\nJCA ECE Last Day\
 , May 26\n\nhttp://reg.jcajax.org/OnlineEdge/programlist.html
DTSTART;TZID=America/New_York:20170526T073000
DTEND;TZID=America/New_York:20170526T235900
END:VEVENT
END:VCALENDAR
