BEGIN:VCALENDAR
PRODID:-//eluceo/ical//2.0/EN
VERSION:2.0
CALSCALE:GREGORIAN
BEGIN:VEVENT
UID:e8cf1554fb43a6a33ff41838d3f9f393
DTSTAMP:20260425T222556Z
SUMMARY:10 AM - JCA Early Childhood Family Welcome Brunch
DESCRIPTION:Jewish Federation & Foundation of Northeast Florida\nCommunity 
 Calendar\nhttps://jewishjacksonville.org/jewish-federation-of-jacksonville
 -calendar/jca-early-childhood-family-welcome-brunch\n\nCOMMUNITY PROGRAM\n
 \nJCA Early Childhood Family Welcome Brunch\, 10:00 AM - 12:00 PM\n\nhttp
 s://jcajax.org/programs
DTSTART;TZID=America/New_York:20170820T100000
DTEND;TZID=America/New_York:20170820T120000
END:VEVENT
END:VCALENDAR
