BEGIN:VCALENDAR
PRODID:-//eluceo/ical//2.0/EN
VERSION:2.0
CALSCALE:GREGORIAN
BEGIN:VEVENT
UID:17d22de326abd2388a8ad9084861e337
DTSTAMP:20260422T214038Z
SUMMARY:2PM JCA Cultural Arts Film
DESCRIPTION:Jewish Federation & Foundation of Northeast Florida\nCommunity 
 Calendar\nhttps://jewishjacksonville.org/jewish-federation-of-jacksonville
 -calendar/jca-cultural-arts-film\n\nCommunity Program: JCA Cultural Arts F
 ilm\n\nhttp://reg.jcajax.org/OnlineEdge/programlist.html
DTSTART;TZID=America/New_York:20150816T140000
DTEND;TZID=America/New_York:20150816T160000
END:VEVENT
END:VCALENDAR
