BEGIN:VCALENDAR
PRODID:-//eluceo/ical//2.0/EN
VERSION:2.0
CALSCALE:GREGORIAN
BEGIN:VEVENT
UID:bfdb40dd473f5aeb9297c5b2004459e3
DTSTAMP:20260423T142641Z
SUMMARY:7PM JCA Cultural Arts Festival
DESCRIPTION:Jewish Federation & Foundation of Northeast Florida\nCommunity 
 Calendar\nhttps://jewishjacksonville.org/jewish-federation-of-jacksonville
 -calendar/jca-cultural-arts-festival-nov5th\n\nMarilyn Rothstein (author)
DTSTART;TZID=America/New_York:20181107T190000
DTEND;TZID=America/New_York:20181107T210000
END:VEVENT
END:VCALENDAR
