BEGIN:VCALENDAR
PRODID:-//eluceo/ical//2.0/EN
VERSION:2.0
CALSCALE:GREGORIAN
BEGIN:VEVENT
UID:443dc5acc36967ce3fbdedf332a90681
DTSTAMP:20260422T055734Z
SUMMARY:2PM JCA Cultural Arts Festival
DESCRIPTION:Jewish Federation & Foundation of Northeast Florida\nCommunity 
 Calendar\nhttps://jewishjacksonville.org/jewish-federation-of-jacksonville
 -calendar/jca-cultural-arts-festival-nov-2-2018\n\nCabaret with JCA Theat
 re Department.
DTSTART;TZID=America/New_York:20181104T140000
DTEND;TZID=America/New_York:20181104T170000
END:VEVENT
END:VCALENDAR
