BEGIN:VCALENDAR
PRODID:-//eluceo/ical//2.0/EN
VERSION:2.0
CALSCALE:GREGORIAN
BEGIN:VEVENT
UID:f9710bec1c769f8944b6f9aeaea79d2e
DTSTAMP:20260421T083206Z
SUMMARY:7PM JCA Cultural Arts Festival
DESCRIPTION:Jewish Federation & Foundation of Northeast Florida\nCommunity 
 Calendar\nhttps://jewishjacksonville.org/jewish-federation-of-jacksonville
 -calendar/jca-cultural-arts-festival-11-4-18\n\nIzzy Ezagui (author).
DTSTART;TZID=America/New_York:20181105T190000
DTEND;TZID=America/New_York:20181105T210000
END:VEVENT
END:VCALENDAR
