BEGIN:VCALENDAR
PRODID:-//eluceo/ical//2.0/EN
VERSION:2.0
CALSCALE:GREGORIAN
BEGIN:VEVENT
UID:4ea883f098ed2804d255c34eac451233
DTSTAMP:20260421T062040Z
SUMMARY:3PM JCA Cultural Arts Concert
DESCRIPTION:Jewish Federation & Foundation of Northeast Florida\nCommunity 
 Calendar\nhttps://jewishjacksonville.org/jewish-federation-of-jacksonville
 -calendar/jca-cultural-arts-concertm\n\nCommunity Program\n\nJCA Cultural 
 Arts Concert 3pm\n\nhttps://reg.jcajax.org/OnlineEdge/programlist.html
DTSTART;TZID=America/New_York:20160320T150000
DTEND;TZID=America/New_York:20160320T170000
END:VEVENT
END:VCALENDAR
