BEGIN:VCALENDAR
PRODID:-//eluceo/ical//2.0/EN
VERSION:2.0
CALSCALE:GREGORIAN
BEGIN:VEVENT
UID:4f50f23e44a286be8053d181167f56eb
DTSTAMP:20260423T235755Z
SUMMARY:JCA Chanukkah Extravaganza - 5:45 PM
DESCRIPTION:Jewish Federation & Foundation of Northeast Florida\nCommunity 
 Calendar\nhttps://jewishjacksonville.org/jewish-federation-of-jacksonville
 -calendar/jca-chanukkah-extravaganza-2022\n\nJoin the JCA community for th
 e annual lighting of our giant outside Chanukkiah! The celebration will fe
 ature our world famous latkes\, hot dogs\, songs and activities. \n\nFor 
 more information\, please contact Rachel Sandler at (904) 730-2100 ext. 27
 1 or rachel.sandler@jcajax.org. 
DTSTART;TZID=America/New_York:20221219T174500
DTEND;TZID=America/New_York:20221219T210000
END:VEVENT
END:VCALENDAR
